Package: CARDspa Version: 1.3.0 Command: /Library/Frameworks/R.framework/Resources/bin/R CMD build --keep-empty-dirs --no-resave-data CARDspa StartedAt: 2025-11-13 15:52:46 -0500 (Thu, 13 Nov 2025) EndedAt: 2025-11-13 15:54:50 -0500 (Thu, 13 Nov 2025) EllapsedTime: 123.4 seconds RetCode: 0 Status: OK PackageFile: CARDspa_1.3.0.tar.gz PackageFileSize: 4.53 MiB