Package: CARDspa Version: 1.3.0 Command: rm -rf CARDspa.buildbin-libdir && mkdir CARDspa.buildbin-libdir && /Users/biocbuild/BBS/utils/build-universal.sh CARDspa_1.3.0.tar.gz /Library/Frameworks/R.framework/Resources/bin/R CARDspa.buildbin-libdir StartedAt: 2025-11-13 23:30:26 -0500 (Thu, 13 Nov 2025) EndedAt: 2025-11-13 23:30:52 -0500 (Thu, 13 Nov 2025) EllapsedTime: 26.6 seconds RetCode: 0 Status: OK PackageFile: CARDspa_1.3.0.tgz PackageFileSize: 4.918 MiB