Package: CARDspa Version: 1.3.0 Maintainer: Jing Fu MaintainerEmail: jing_fu at brown.edu git_url: https://git.bioconductor.org/packages/CARDspa git_branch: devel git_last_commit: dbb2600 git_last_commit_date: 2025-10-29 11:34:40 -0500 (Wed, 29 Oct 2025)