Package: CAMERA Version: 1.67.0 Command: /Library/Frameworks/R.framework/Resources/bin/R CMD INSTALL CAMERA StartedAt: 2025-11-12 15:36:31 -0500 (Wed, 12 Nov 2025) EndedAt: 2025-11-12 15:36:31 -0500 (Wed, 12 Nov 2025) EllapsedTime: 0.3 seconds RetCode: 1 Status: ERROR