Package: CAMERA Version: 1.67.0 Command: /Library/Frameworks/R.framework/Resources/bin/R CMD build --keep-empty-dirs --no-resave-data CAMERA StartedAt: 2025-11-12 15:55:15 -0500 (Wed, 12 Nov 2025) EndedAt: 2025-11-12 15:55:16 -0500 (Wed, 12 Nov 2025) EllapsedTime: 1.0 seconds RetCode: 1 Status: ERROR PackageFile: None PackageFileSize: NA