Package: CAMERA Version: 1.67.0 Maintainer: Steffen Neumann MaintainerEmail: sneumann at ipb-halle.de git_url: https://git.bioconductor.org/packages/CAMERA git_branch: devel git_last_commit: 340928f git_last_commit_date: 2025-10-29 10:02:23 -0500 (Wed, 29 Oct 2025)