Package: CAGEfightR Version: 1.31.0 Command: /Library/Frameworks/R.framework/Resources/bin/R CMD INSTALL CAGEfightR StartedAt: 2025-11-14 15:29:53 -0500 (Fri, 14 Nov 2025) EndedAt: 2025-11-14 15:30:21 -0500 (Fri, 14 Nov 2025) EllapsedTime: 27.9 seconds RetCode: 0 Status: OK