Package: CAGEfightR Version: 1.31.0 Command: /Library/Frameworks/R.framework/Resources/bin/R CMD build --keep-empty-dirs --no-resave-data CAGEfightR StartedAt: 2025-11-14 15:48:51 -0500 (Fri, 14 Nov 2025) EndedAt: 2025-11-14 15:50:14 -0500 (Fri, 14 Nov 2025) EllapsedTime: 82.9 seconds RetCode: 0 Status: OK PackageFile: CAGEfightR_1.31.0.tar.gz PackageFileSize: 1.705 MiB