Package: CAGEfightR Version: 1.31.0 Command: rm -rf CAGEfightR.buildbin-libdir && mkdir CAGEfightR.buildbin-libdir && /Users/biocbuild/BBS/utils/build-universal.sh CAGEfightR_1.31.0.tar.gz /Library/Frameworks/R.framework/Resources/bin/R CAGEfightR.buildbin-libdir StartedAt: 2025-11-14 23:25:15 -0500 (Fri, 14 Nov 2025) EndedAt: 2025-11-14 23:25:40 -0500 (Fri, 14 Nov 2025) EllapsedTime: 25.5 seconds RetCode: 0 Status: OK PackageFile: CAGEfightR_1.31.0.tgz PackageFileSize: 2.627 MiB