Back to Multiple platform build/check report for BioC 3.23:   simplified   long
AB[C]DEFGHIJKLMNOPQRSTUVWXYZ

This page was generated on 2025-11-14 11:36 -0500 (Fri, 14 Nov 2025).

HostnameOSArch (*)R versionInstalled pkgs
nebbiolo1Linux (Ubuntu 24.04.3 LTS)x86_64R Under development (unstable) (2025-10-20 r88955) -- "Unsuffered Consequences" 4825
kjohnson3macOS 13.7.7 Venturaarm64R Under development (unstable) (2025-11-04 r88984) -- "Unsuffered Consequences" 4547
Click on any hostname to see more info about the system (e.g. compilers)      (*) as reported by 'uname -p', except on Windows and Mac OS X

Package 265/2325HostnameOS / ArchINSTALLBUILDCHECKBUILD BIN
CAGEfightR 1.31.0  (landing page)
Malte Thodberg
Snapshot Date: 2025-11-13 13:40 -0500 (Thu, 13 Nov 2025)
git_url: https://git.bioconductor.org/packages/CAGEfightR
git_branch: devel
git_last_commit: c45462c
git_last_commit_date: 2025-10-29 10:45:17 -0500 (Wed, 29 Oct 2025)
nebbiolo1Linux (Ubuntu 24.04.3 LTS) / x86_64  OK    OK    OK  UNNEEDED, same version is already published
kjohnson3macOS 13.7.7 Ventura / arm64  OK    OK    OK    OK  NO, package depends on 'GenomicRanges' which is only available as a source package that needs compilation


CHECK results for CAGEfightR on kjohnson3

To the developers/maintainers of the CAGEfightR package:
- Allow up to 24 hours (and sometimes 48 hours) for your latest push to git@git.bioconductor.org:packages/CAGEfightR.git to reflect on this report. See Troubleshooting Build Report for more information.
- Use the following Renviron settings to reproduce errors and warnings.
- If 'R CMD check' started to fail recently on the Linux builder(s) over a missing dependency, add the missing dependency to 'Suggests:' in your DESCRIPTION file. See Renviron.bioc for more information.

raw results


Summary

Package: CAGEfightR
Version: 1.31.0
Command: /Library/Frameworks/R.framework/Resources/bin/R CMD check --install=check:CAGEfightR.install-out.txt --library=/Library/Frameworks/R.framework/Resources/library --no-vignettes --timings CAGEfightR_1.31.0.tar.gz
StartedAt: 2025-11-13 18:52:48 -0500 (Thu, 13 Nov 2025)
EndedAt: 2025-11-13 18:55:43 -0500 (Thu, 13 Nov 2025)
EllapsedTime: 174.1 seconds
RetCode: 0
Status:   OK  
CheckDir: CAGEfightR.Rcheck
Warnings: 0

Command output

##############################################################################
##############################################################################
###
### Running command:
###
###   /Library/Frameworks/R.framework/Resources/bin/R CMD check --install=check:CAGEfightR.install-out.txt --library=/Library/Frameworks/R.framework/Resources/library --no-vignettes --timings CAGEfightR_1.31.0.tar.gz
###
##############################################################################
##############################################################################


* using log directory ‘/Users/biocbuild/bbs-3.23-bioc/meat/CAGEfightR.Rcheck’
* using R Under development (unstable) (2025-11-04 r88984)
* using platform: aarch64-apple-darwin20
* R was compiled by
    Apple clang version 16.0.0 (clang-1600.0.26.6)
    GNU Fortran (GCC) 14.2.0
* running under: macOS Ventura 13.7.8
* using session charset: UTF-8
* using option ‘--no-vignettes’
* checking for file ‘CAGEfightR/DESCRIPTION’ ... OK
* checking extension type ... Package
* this is package ‘CAGEfightR’ version ‘1.31.0’
* package encoding: UTF-8
* checking package namespace information ... OK
* checking package dependencies ... OK
* checking if this is a source package ... OK
* checking if there is a namespace ... OK
* checking for hidden files and directories ... OK
* checking for portable file names ... OK
* checking for sufficient/correct file permissions ... OK
* checking whether package ‘CAGEfightR’ can be installed ... OK
* checking installed package size ... OK
* checking package directory ... OK
* checking ‘build’ directory ... OK
* checking DESCRIPTION meta-information ... OK
* checking top-level files ... OK
* checking for left-over files ... OK
* checking index information ... OK
* checking package subdirectories ... OK
* checking code files for non-ASCII characters ... OK
* checking R files for syntax errors ... OK
* checking whether the package can be loaded ... OK
* checking whether the package can be loaded with stated dependencies ... OK
* checking whether the package can be unloaded cleanly ... OK
* checking whether the namespace can be loaded with stated dependencies ... OK
* checking whether the namespace can be unloaded cleanly ... OK
* checking whether startup messages can be suppressed ... OK
* checking dependencies in R code ... OK
* checking S3 generic/method consistency ... OK
* checking replacement functions ... OK
* checking foreign function calls ... OK
* checking R code for possible problems ... OK
* checking Rd files ... OK
* checking Rd metadata ... OK
* checking Rd cross-references ... OK
* checking for missing documentation entries ... OK
* checking for code/documentation mismatches ... OK
* checking Rd \usage sections ... OK
* checking Rd contents ... OK
* checking for unstated dependencies in examples ... OK
* checking contents of ‘data’ directory ... OK
* checking data for non-ASCII characters ... OK
* checking LazyData ... OK
* checking data for ASCII and uncompressed saves ... OK
* checking files in ‘vignettes’ ... OK
* checking examples ... OK
* checking for unstated dependencies in vignettes ... OK
* checking package vignettes ... OK
* checking running R code from vignettes ... SKIPPED
* checking re-building of vignette outputs ... SKIPPED
* checking PDF version of manual ... OK
* DONE

Status: OK


Installation output

CAGEfightR.Rcheck/00install.out

##############################################################################
##############################################################################
###
### Running command:
###
###   /Library/Frameworks/R.framework/Resources/bin/R CMD INSTALL CAGEfightR
###
##############################################################################
##############################################################################


* installing to library ‘/Library/Frameworks/R.framework/Versions/4.6-arm64/Resources/library’
* installing *source* package ‘CAGEfightR’ ...
** this is package ‘CAGEfightR’ version ‘1.31.0’
** using staged installation
** R
** data
*** moving datasets to lazyload DB
** inst
** byte-compile and prepare package for lazy loading
** help
*** installing help indices
** building package indices
** installing vignettes
** testing if installed package can be loaded from temporary location
** testing if installed package can be loaded from final location
** testing if installed package keeps a record of temporary installation path
* DONE (CAGEfightR)

Tests output


Example timings

CAGEfightR.Rcheck/CAGEfightR-Ex.timings

nameusersystemelapsed
assignGeneID1.5450.0461.659
assignMissingID0.3680.0180.392
assignTxID0.3400.0170.376
assignTxType000
balanceBC0.0000.0000.001
balanceD000
bwCommonGenome0.0120.0020.016
bwGenomeCompatibility0.0060.0020.008
bwValid0.0030.0020.004
calcBidirectionality0.1440.0070.154
calcComposition0.4850.0240.538
calcPooled0.0280.0020.033
calcShape0.7910.0220.847
calcSupport0.0500.0030.055
calcTPM0.0420.0030.052
calcTotalTags0.0220.0030.030
checkCTSSs0.0810.0030.085
checkPeaked0.0240.0020.028
checkPooled0.0220.0030.024
clusterBidirectionally000
clusterUnidirectionally0.4870.0090.521
combineClusters0.2670.0080.292
convertBAM2BigWig000
convertBED2BigWig0.0000.0000.001
convertGRanges2GPos0.0250.0000.025
exampleDesign0.0010.0060.008
findLinks2.8450.3263.052
findStretches0.1230.0540.177
quantifyCTSSs0.0000.0010.000
quantifyCTSSs2000
quantifyClusters0.1340.0320.167
quantifyGenes0.4600.0670.542
quickEnhancers000
quickGenes000
quickTSSs000
shapeEntropy000
shapeIQR000
shapeMean000
shapeMultimodality000
subsetByBidirectionality0.1400.0190.167
subsetByComposition0.4260.0230.461
subsetBySupport0.0210.0010.022
swapRanges0.0630.0030.065
swapScores0.0270.0030.030
trackBalance000
trackCTSS1.2970.1361.496
trackClusters0.9000.0140.983
trackLinks0.3210.2120.462
trimToPeak0.2590.0720.339
trimToPercentiles0.6300.0440.720
tuneTagClustering000
utilsAggregateRows0.1260.1800.314
utilsDeStrand0.0380.0010.040
utilsScoreOverlaps0.0240.0000.025
utilsSimplifyTxDb0.0000.0000.001