Package: CAFE Version: 1.47.0 Command: /Library/Frameworks/R.framework/Resources/bin/R CMD INSTALL CAFE StartedAt: 2025-11-16 15:25:43 -0500 (Sun, 16 Nov 2025) EndedAt: 2025-11-16 15:26:05 -0500 (Sun, 16 Nov 2025) EllapsedTime: 22.3 seconds RetCode: 0 Status: OK