Package: CAFE Version: 1.47.0 Command: /Library/Frameworks/R.framework/Resources/bin/R CMD build --keep-empty-dirs --no-resave-data CAFE StartedAt: 2025-11-16 15:48:27 -0500 (Sun, 16 Nov 2025) EndedAt: 2025-11-16 15:49:04 -0500 (Sun, 16 Nov 2025) EllapsedTime: 37.4 seconds RetCode: 0 Status: OK PackageFile: CAFE_1.47.0.tar.gz PackageFileSize: 4.629 MiB