Package: CAFE Version: 1.47.0 Command: rm -rf CAFE.buildbin-libdir && mkdir CAFE.buildbin-libdir && /Users/biocbuild/BBS/utils/build-universal.sh CAFE_1.47.0.tar.gz /Library/Frameworks/R.framework/Resources/bin/R CAFE.buildbin-libdir StartedAt: 2025-11-16 23:26:25 -0500 (Sun, 16 Nov 2025) EndedAt: 2025-11-16 23:26:57 -0500 (Sun, 16 Nov 2025) EllapsedTime: 32.7 seconds RetCode: 0 Status: OK PackageFile: CAFE_1.47.0.tgz PackageFileSize: 4.688 MiB