Package: BumpyMatrix Version: 1.19.0 Command: /home/biocbuild/bbs-3.23-bioc/R/bin/R CMD INSTALL BumpyMatrix StartedAt: 2025-11-13 15:14:15 -0500 (Thu, 13 Nov 2025) EndedAt: 2025-11-13 15:14:29 -0500 (Thu, 13 Nov 2025) EllapsedTime: 13.2 seconds RetCode: 0 Status: OK