Package: BumpyMatrix Version: 1.19.0 Command: /home/biocbuild/bbs-3.23-bioc/R/bin/R CMD check --install=check:BumpyMatrix.install-out.txt --library=/home/biocbuild/bbs-3.23-bioc/R/site-library --timings BumpyMatrix_1.19.0.tar.gz StartedAt: 2025-11-14 21:38:37 -0500 (Fri, 14 Nov 2025) EndedAt: 2025-11-14 21:40:15 -0500 (Fri, 14 Nov 2025) EllapsedTime: 98.1 seconds RetCode: 0 Status: OK CheckDir: BumpyMatrix.Rcheck Warnings: 0