Package: BumpyMatrix Version: 1.19.0 Command: /Library/Frameworks/R.framework/Resources/bin/R CMD INSTALL BumpyMatrix StartedAt: 2025-11-12 15:22:56 -0500 (Wed, 12 Nov 2025) EndedAt: 2025-11-12 15:23:02 -0500 (Wed, 12 Nov 2025) EllapsedTime: 5.1 seconds RetCode: 0 Status: OK