Package: BulkSignalR Version: 1.3.1 Command: /home/biocbuild/bbs-3.23-bioc/R/bin/R CMD INSTALL BulkSignalR StartedAt: 2025-11-13 15:58:54 -0500 (Thu, 13 Nov 2025) EndedAt: 2025-11-13 15:59:44 -0500 (Thu, 13 Nov 2025) EllapsedTime: 49.8 seconds RetCode: 0 Status: OK