Package: BulkSignalR Version: 1.3.1 Command: /home/biocbuild/bbs-3.23-bioc/R/bin/R CMD build --keep-empty-dirs --no-resave-data BulkSignalR StartedAt: 2025-11-13 16:34:29 -0500 (Thu, 13 Nov 2025) EndedAt: 2025-11-13 16:38:22 -0500 (Thu, 13 Nov 2025) EllapsedTime: 233.2 seconds RetCode: 0 Status: OK PackageFile: BulkSignalR_1.3.1.tar.gz PackageFileSize: 2.981 MiB