Package: BulkSignalR Version: 1.3.1 Command: /Library/Frameworks/R.framework/Resources/bin/R CMD INSTALL BulkSignalR StartedAt: 2025-11-14 15:31:23 -0500 (Fri, 14 Nov 2025) EndedAt: 2025-11-14 15:31:44 -0500 (Fri, 14 Nov 2025) EllapsedTime: 20.6 seconds RetCode: 0 Status: OK