Package: BulkSignalR Version: 1.3.1 Command: /Library/Frameworks/R.framework/Resources/bin/R CMD build --keep-empty-dirs --no-resave-data BulkSignalR StartedAt: 2025-11-14 15:48:13 -0500 (Fri, 14 Nov 2025) EndedAt: 2025-11-14 15:49:49 -0500 (Fri, 14 Nov 2025) EllapsedTime: 96.1 seconds RetCode: 0 Status: OK PackageFile: BulkSignalR_1.3.1.tar.gz PackageFileSize: 3.079 MiB