Package: BufferedMatrix Version: 1.75.0 Command: /home/biocbuild/bbs-3.23-bioc/R/bin/R CMD build --keep-empty-dirs --no-resave-data BufferedMatrix StartedAt: 2025-11-13 16:34:19 -0500 (Thu, 13 Nov 2025) EndedAt: 2025-11-13 16:34:28 -0500 (Thu, 13 Nov 2025) EllapsedTime: 9.0 seconds RetCode: 0 Status: OK PackageFile: BufferedMatrix_1.75.0.tar.gz PackageFileSize: 629.6 KiB