Package: BufferedMatrix Version: 1.75.0 Command: /Library/Frameworks/R.framework/Resources/bin/R CMD INSTALL BufferedMatrix StartedAt: 2025-11-13 15:01:31 -0500 (Thu, 13 Nov 2025) EndedAt: 2025-11-13 15:01:34 -0500 (Thu, 13 Nov 2025) EllapsedTime: 3.3 seconds RetCode: 0 Status: OK