Package: BufferedMatrix Version: 1.75.0 Command: /Library/Frameworks/R.framework/Resources/bin/R CMD build --keep-empty-dirs --no-resave-data BufferedMatrix StartedAt: 2025-11-13 15:51:05 -0500 (Thu, 13 Nov 2025) EndedAt: 2025-11-13 15:51:10 -0500 (Thu, 13 Nov 2025) EllapsedTime: 5.1 seconds RetCode: 0 Status: OK PackageFile: BufferedMatrix_1.75.0.tar.gz PackageFileSize: 630.4 KiB