Package: BubbleTree Version: 2.41.0 Command: /Library/Frameworks/R.framework/Resources/bin/R CMD INSTALL BubbleTree StartedAt: 2025-11-13 15:24:27 -0500 (Thu, 13 Nov 2025) EndedAt: 2025-11-13 15:24:49 -0500 (Thu, 13 Nov 2025) EllapsedTime: 21.3 seconds RetCode: 0 Status: OK