Package: BrowserViz Version: 2.33.0 Command: /Library/Frameworks/R.framework/Resources/bin/R CMD INSTALL BrowserViz StartedAt: 2025-11-13 15:07:56 -0500 (Thu, 13 Nov 2025) EndedAt: 2025-11-13 15:07:58 -0500 (Thu, 13 Nov 2025) EllapsedTime: 2.0 seconds RetCode: 0 Status: OK