Package: BrowserViz Version: 2.33.0 Command: rm -rf BrowserViz.buildbin-libdir && mkdir BrowserViz.buildbin-libdir && /Users/biocbuild/BBS/utils/build-universal.sh BrowserViz_2.33.0.tar.gz /Library/Frameworks/R.framework/Resources/bin/R BrowserViz.buildbin-libdir StartedAt: 2025-11-13 23:29:58 -0500 (Thu, 13 Nov 2025) EndedAt: 2025-11-13 23:30:01 -0500 (Thu, 13 Nov 2025) EllapsedTime: 3.1 seconds RetCode: 0 Status: OK PackageFile: BrowserViz_2.33.0.tgz PackageFileSize: 416.8 KiB