Package: BrowserViz Version: 2.33.0 Maintainer: Arkadiusz Gladki MaintainerEmail: gladki.arkadiusz at gmail.com git_url: https://git.bioconductor.org/packages/BrowserViz git_branch: devel git_last_commit: 0964377 git_last_commit_date: 2025-10-29 10:24:18 -0500 (Wed, 29 Oct 2025)