Package: BridgeDbR Version: 2.21.0 Command: /home/biocbuild/bbs-3.23-bioc/R/bin/R CMD INSTALL BridgeDbR StartedAt: 2025-11-16 15:04:07 -0500 (Sun, 16 Nov 2025) EndedAt: 2025-11-16 15:04:25 -0500 (Sun, 16 Nov 2025) EllapsedTime: 17.9 seconds RetCode: 0 Status: OK