Package: BridgeDbR Version: 2.21.0 Command: /home/biocbuild/bbs-3.23-bioc/R/bin/R CMD build --keep-empty-dirs --no-resave-data BridgeDbR StartedAt: 2025-11-16 16:34:18 -0500 (Sun, 16 Nov 2025) EndedAt: 2025-11-16 16:34:26 -0500 (Sun, 16 Nov 2025) EllapsedTime: 8.0 seconds RetCode: 0 Status: OK PackageFile: BridgeDbR_2.21.0.tar.gz PackageFileSize: 5.03 MiB