Package: BridgeDbR Version: 2.21.0 Command: /Library/Frameworks/R.framework/Resources/bin/R CMD build --keep-empty-dirs --no-resave-data BridgeDbR StartedAt: 2025-11-13 15:50:54 -0500 (Thu, 13 Nov 2025) EndedAt: 2025-11-13 15:50:58 -0500 (Thu, 13 Nov 2025) EllapsedTime: 4.0 seconds RetCode: 0 Status: OK PackageFile: BridgeDbR_2.21.0.tar.gz PackageFileSize: 5.03 MiB