Package: BridgeDbR Version: 2.21.0 Maintainer: Egon Willighagen MaintainerEmail: egon.willighagen at gmail.com git_url: https://git.bioconductor.org/packages/BridgeDbR git_branch: devel git_last_commit: 2db2f82 git_last_commit_date: 2025-10-29 10:22:40 -0500 (Wed, 29 Oct 2025)