Package: BloodGen3Module Version: 1.19.0 Command: /home/biocbuild/bbs-3.23-bioc/R/bin/R CMD build --keep-empty-dirs --no-resave-data BloodGen3Module StartedAt: 2025-11-11 16:35:28 -0500 (Tue, 11 Nov 2025) EndedAt: 2025-11-11 16:36:41 -0500 (Tue, 11 Nov 2025) EllapsedTime: 73.0 seconds RetCode: 0 Status: OK PackageFile: BloodGen3Module_1.19.0.tar.gz PackageFileSize: 178.8 KiB