Package: BloodGen3Module Version: 1.19.0 Command: /Library/Frameworks/R.framework/Resources/bin/R CMD check --install=check:BloodGen3Module.install-out.txt --library=/Library/Frameworks/R.framework/Resources/library --no-vignettes --timings BloodGen3Module_1.19.0.tar.gz StartedAt: 2025-11-13 18:49:15 -0500 (Thu, 13 Nov 2025) EndedAt: 2025-11-13 18:51:24 -0500 (Thu, 13 Nov 2025) EllapsedTime: 129.6 seconds RetCode: 0 Status: WARNINGS CheckDir: BloodGen3Module.Rcheck Warnings: 1