Package: BiocWorkflowTools Version: 1.37.0 Command: /home/biocbuild/bbs-3.23-bioc/R/bin/R CMD INSTALL BiocWorkflowTools StartedAt: 2025-11-13 15:11:30 -0500 (Thu, 13 Nov 2025) EndedAt: 2025-11-13 15:11:41 -0500 (Thu, 13 Nov 2025) EllapsedTime: 11.1 seconds RetCode: 0 Status: OK