Package: BiocWorkflowTools Version: 1.37.0 Command: /home/biocbuild/bbs-3.23-bioc/R/bin/R CMD check --install=check:BiocWorkflowTools.install-out.txt --library=/home/biocbuild/bbs-3.23-bioc/R/site-library --timings BiocWorkflowTools_1.37.0.tar.gz StartedAt: 2025-11-14 21:28:23 -0500 (Fri, 14 Nov 2025) EndedAt: 2025-11-14 21:28:50 -0500 (Fri, 14 Nov 2025) EllapsedTime: 27.0 seconds RetCode: 0 Status: OK CheckDir: BiocWorkflowTools.Rcheck Warnings: 0