Package: BiocWorkflowTools Version: 1.37.0 Command: /Library/Frameworks/R.framework/Resources/bin/R CMD INSTALL BiocWorkflowTools StartedAt: 2025-11-13 15:06:28 -0500 (Thu, 13 Nov 2025) EndedAt: 2025-11-13 15:06:33 -0500 (Thu, 13 Nov 2025) EllapsedTime: 4.9 seconds RetCode: 0 Status: OK