Package: BiocVersion Version: 3.23.1 Command: /home/biocbuild/bbs-3.23-bioc/R/bin/R CMD INSTALL BiocVersion StartedAt: 2025-11-11 15:08:05 -0500 (Tue, 11 Nov 2025) EndedAt: 2025-11-11 15:08:27 -0500 (Tue, 11 Nov 2025) EllapsedTime: 21.9 seconds RetCode: 0 Status: OK