Package: BiocVersion Version: 3.23.1 Command: /Library/Frameworks/R.framework/Resources/bin/R CMD INSTALL BiocVersion StartedAt: 2025-11-13 15:02:26 -0500 (Thu, 13 Nov 2025) EndedAt: 2025-11-13 15:02:37 -0500 (Thu, 13 Nov 2025) EllapsedTime: 10.6 seconds RetCode: 0 Status: OK