Package: BiocVersion Version: 3.23.1 Command: /Library/Frameworks/R.framework/Resources/bin/R CMD build --keep-empty-dirs --no-resave-data BiocVersion StartedAt: 2025-11-13 15:48:49 -0500 (Thu, 13 Nov 2025) EndedAt: 2025-11-13 15:48:50 -0500 (Thu, 13 Nov 2025) EllapsedTime: 1.0 seconds RetCode: 0 Status: OK PackageFile: BiocVersion_3.23.1.tar.gz PackageFileSize: 997 bytes