Package: BiocStyle Version: 2.39.0 Command: /Library/Frameworks/R.framework/Resources/bin/R CMD INSTALL BiocStyle StartedAt: 2025-11-14 15:04:38 -0500 (Fri, 14 Nov 2025) EndedAt: 2025-11-14 15:04:54 -0500 (Fri, 14 Nov 2025) EllapsedTime: 15.6 seconds RetCode: 0 Status: OK