Package: BiocStyle Version: 2.39.0 Command: rm -rf BiocStyle.buildbin-libdir && mkdir BiocStyle.buildbin-libdir && /Users/biocbuild/BBS/utils/build-universal.sh BiocStyle_2.39.0.tar.gz /Library/Frameworks/R.framework/Resources/bin/R BiocStyle.buildbin-libdir StartedAt: 2025-11-14 23:24:27 -0500 (Fri, 14 Nov 2025) EndedAt: 2025-11-14 23:24:30 -0500 (Fri, 14 Nov 2025) EllapsedTime: 3.1 seconds RetCode: 0 Status: OK PackageFile: BiocStyle_2.39.0.tgz PackageFileSize: 839.3 KiB