Package: BiocSklearn Version: 1.33.0 Command: /home/biocbuild/bbs-3.23-bioc/R/bin/R CMD INSTALL BiocSklearn StartedAt: 2025-11-14 15:18:54 -0500 (Fri, 14 Nov 2025) EndedAt: 2025-11-14 15:19:16 -0500 (Fri, 14 Nov 2025) EllapsedTime: 22.3 seconds RetCode: 0 Status: OK