Package: BiocSklearn Version: 1.33.0 Command: /home/biocbuild/bbs-3.23-bioc/R/bin/R CMD build --keep-empty-dirs --no-resave-data BiocSklearn StartedAt: 2025-11-14 16:29:25 -0500 (Fri, 14 Nov 2025) EndedAt: 2025-11-14 16:29:59 -0500 (Fri, 14 Nov 2025) EllapsedTime: 34.0 seconds RetCode: 0 Status: OK PackageFile: BiocSklearn_1.33.0.tar.gz PackageFileSize: 32.52 MiB