Package: BiocSklearn Version: 1.33.0 Command: /Library/Frameworks/R.framework/Resources/bin/R CMD build --keep-empty-dirs --no-resave-data BiocSklearn StartedAt: 2025-11-13 15:48:41 -0500 (Thu, 13 Nov 2025) EndedAt: 2025-11-13 15:48:57 -0500 (Thu, 13 Nov 2025) EllapsedTime: 16.2 seconds RetCode: 0 Status: OK PackageFile: BiocSklearn_1.33.0.tar.gz PackageFileSize: 32.52 MiB