Package: BiocSklearn Version: 1.33.0 Maintainer: Vince Carey MaintainerEmail: stvjc at channing.harvard.edu git_url: https://git.bioconductor.org/packages/BiocSklearn git_branch: devel git_last_commit: c351496 git_last_commit_date: 2025-10-29 10:39:55 -0500 (Wed, 29 Oct 2025)