Package: BiocSingular Version: 1.27.1 Command: /home/biocbuild/bbs-3.23-bioc/R/bin/R CMD INSTALL BiocSingular StartedAt: 2025-11-23 15:54:40 -0500 (Sun, 23 Nov 2025) EndedAt: 2025-11-23 15:55:07 -0500 (Sun, 23 Nov 2025) EllapsedTime: 27.8 seconds RetCode: 0 Status: OK