Package: BiocSingular Version: 1.27.1 Command: /home/biocbuild/bbs-3.23-bioc/R/bin/R CMD build --keep-empty-dirs --no-resave-data BiocSingular StartedAt: 2025-11-23 16:29:32 -0500 (Sun, 23 Nov 2025) EndedAt: 2025-11-23 16:30:12 -0500 (Sun, 23 Nov 2025) EllapsedTime: 40.0 seconds RetCode: 0 Status: OK PackageFile: BiocSingular_1.27.1.tar.gz PackageFileSize: 602.8 KiB