Package: BiocSingular Version: 1.27.0 Command: /Library/Frameworks/R.framework/Resources/bin/R CMD INSTALL BiocSingular StartedAt: 2025-11-14 15:28:26 -0500 (Fri, 14 Nov 2025) EndedAt: 2025-11-14 15:28:36 -0500 (Fri, 14 Nov 2025) EllapsedTime: 10.3 seconds RetCode: 0 Status: OK