Package: BiocSingular Version: 1.27.0 Command: /Library/Frameworks/R.framework/Resources/bin/R CMD build --keep-empty-dirs --no-resave-data BiocSingular StartedAt: 2025-11-14 15:45:35 -0500 (Fri, 14 Nov 2025) EndedAt: 2025-11-14 15:45:49 -0500 (Fri, 14 Nov 2025) EllapsedTime: 14.2 seconds RetCode: 0 Status: OK PackageFile: BiocSingular_1.27.0.tar.gz PackageFileSize: 602.3 KiB