Package: BiocSingular Version: 1.27.0 Command: rm -rf BiocSingular.buildbin-libdir && mkdir BiocSingular.buildbin-libdir && /Users/biocbuild/BBS/utils/build-universal.sh BiocSingular_1.27.0.tar.gz /Library/Frameworks/R.framework/Resources/bin/R BiocSingular.buildbin-libdir StartedAt: 2025-11-14 23:24:25 -0500 (Fri, 14 Nov 2025) EndedAt: 2025-11-14 23:24:39 -0500 (Fri, 14 Nov 2025) EllapsedTime: 13.4 seconds RetCode: 0 Status: OK PackageFile: BiocSingular_1.27.0.tgz PackageFileSize: 927.5 KiB